Package: rhdf5 Version: 2.44.0 Command: /home/biocbuild/bbs-3.17-bioc/R/bin/R CMD check --install=check:rhdf5.install-out.txt --library=/home/biocbuild/bbs-3.17-bioc/R/site-library --timings rhdf5_2.44.0.tar.gz StartedAt: 2023-10-16 00:24:37 -0400 (Mon, 16 Oct 2023) EndedAt: 2023-10-16 00:37:50 -0400 (Mon, 16 Oct 2023) EllapsedTime: 793.5 seconds RetCode: 0 Status: WARNINGS CheckDir: rhdf5.Rcheck Warnings: 1