Package: rhdf5 Version: 2.44.0 Command: /home/biocbuild/bbs-3.17-bioc/R/bin/R CMD INSTALL rhdf5 StartedAt: 2023-10-15 15:11:11 -0400 (Sun, 15 Oct 2023) EndedAt: 2023-10-15 15:11:22 -0400 (Sun, 15 Oct 2023) EllapsedTime: 11.0 seconds RetCode: 0 Status: OK