Package: rhdf5 Version: 2.44.0 Command: chmod a+r rhdf5 -R && F:\biocbuild\bbs-3.17-bioc\R\bin\R.exe CMD build --keep-empty-dirs --no-resave-data rhdf5 StartedAt: 2023-10-15 21:47:43 -0400 (Sun, 15 Oct 2023) EndedAt: 2023-10-15 22:05:22 -0400 (Sun, 15 Oct 2023) EllapsedTime: 1059.8 seconds RetCode: 0 Status: OK PackageFile: rhdf5_2.44.0.tar.gz PackageFileSize: 1.2 MiB