Package: rifiComparative Version: 1.0.1 Command: /Library/Frameworks/R.framework/Resources/bin/R CMD check --install=check:rifiComparative.install-out.txt --library=/Library/Frameworks/R.framework/Resources/library --no-vignettes --timings rifiComparative_1.0.1.tar.gz StartedAt: 2023-10-16 06:06:22 -0400 (Mon, 16 Oct 2023) EndedAt: 2023-10-16 06:41:55 -0400 (Mon, 16 Oct 2023) EllapsedTime: 2133.2 seconds RetCode: 0 Status: OK CheckDir: rifiComparative.Rcheck Warnings: 0