Package: rifiComparative Version: 1.0.1 Command: /Library/Frameworks/R.framework/Resources/bin/R CMD INSTALL rifiComparative StartedAt: 2023-10-15 15:55:40 -0400 (Sun, 15 Oct 2023) EndedAt: 2023-10-15 15:57:24 -0400 (Sun, 15 Oct 2023) EllapsedTime: 104.0 seconds RetCode: 0 Status: OK