Package: rifiComparative Version: 1.0.1 Command: /home/biocbuild/bbs-3.17-bioc/R/bin/R CMD build --keep-empty-dirs --no-resave-data rifiComparative StartedAt: 2023-10-15 18:13:28 -0400 (Sun, 15 Oct 2023) EndedAt: 2023-10-15 18:19:15 -0400 (Sun, 15 Oct 2023) EllapsedTime: 347.0 seconds RetCode: 0 Status: OK PackageFile: rifiComparative_1.0.1.tar.gz PackageFileSize: 3.149 MiB