Package: rqubic Version: 1.46.0 Command: /home/biocbuild/bbs-3.17-bioc/R/bin/R CMD INSTALL rqubic StartedAt: 2023-10-15 15:41:03 -0400 (Sun, 15 Oct 2023) EndedAt: 2023-10-15 15:41:12 -0400 (Sun, 15 Oct 2023) EllapsedTime: 9.1 seconds RetCode: 0 Status: OK