Package: rsemmed Version: 1.10.0 Command: /Library/Frameworks/R.framework/Resources/bin/R CMD build --keep-empty-dirs --no-resave-data rsemmed StartedAt: 2023-10-15 20:51:55 -0400 (Sun, 15 Oct 2023) EndedAt: 2023-10-15 20:52:43 -0400 (Sun, 15 Oct 2023) EllapsedTime: 48.1 seconds RetCode: 0 Status: OK PackageFile: rsemmed_1.10.0.tar.gz PackageFileSize: 2.139 MiB