Package: rsemmed Version: 1.10.0 Command: /Library/Frameworks/R.framework/Resources/bin/R CMD check --install=check:rsemmed.install-out.txt --library=/Library/Frameworks/R.framework/Resources/library --no-vignettes --timings rsemmed_1.10.0.tar.gz StartedAt: 2023-10-16 06:25:10 -0400 (Mon, 16 Oct 2023) EndedAt: 2023-10-16 06:26:47 -0400 (Mon, 16 Oct 2023) EllapsedTime: 96.8 seconds RetCode: 0 Status: OK CheckDir: rsemmed.Rcheck Warnings: 0