Package: savR Version: 1.38.0 Command: /home/biocbuild/bbs-3.17-bioc/R/bin/R CMD build --keep-empty-dirs --no-resave-data savR StartedAt: 2023-10-15 18:20:46 -0400 (Sun, 15 Oct 2023) EndedAt: 2023-10-15 18:20:56 -0400 (Sun, 15 Oct 2023) EllapsedTime: 10.0 seconds RetCode: 1 Status: ERROR PackageFile: None PackageFileSize: NA