Package: savR Version: 1.37.0 Command: rm -rf savR.buildbin-libdir && mkdir savR.buildbin-libdir && F:\biocbuild\bbs-3.17-bioc\R\bin\R.exe CMD INSTALL --build --library=savR.buildbin-libdir savR_1.37.0.tar.gz StartedAt: 2022-11-04 09:28:11 -0400 (Fri, 04 Nov 2022) EndedAt: 2022-11-04 09:28:25 -0400 (Fri, 04 Nov 2022) EllapsedTime: 14.0 seconds RetCode: 0 Status: OK PackageFile: savR_1.37.0.zip PackageFileSize: 695.6 KiB