Package: scMerge Version: 1.16.0 Command: chmod a+r scMerge -R && F:\biocbuild\bbs-3.17-bioc\R\bin\R.exe CMD build --keep-empty-dirs --no-resave-data scMerge StartedAt: 2023-10-15 22:09:17 -0400 (Sun, 15 Oct 2023) EndedAt: 2023-10-15 22:11:17 -0400 (Sun, 15 Oct 2023) EllapsedTime: 120.0 seconds RetCode: 0 Status: OK PackageFile: scMerge_1.16.0.tar.gz PackageFileSize: 2.547 MiB