Package: scPCA Version: 1.14.0 Command: /home/biocbuild/bbs-3.17-bioc/R/bin/R CMD build --keep-empty-dirs --no-resave-data scPCA StartedAt: 2023-10-15 18:26:39 -0400 (Sun, 15 Oct 2023) EndedAt: 2023-10-15 18:31:38 -0400 (Sun, 15 Oct 2023) EllapsedTime: 299.0 seconds RetCode: 0 Status: OK PackageFile: scPCA_1.14.0.tar.gz PackageFileSize: 1.765 MiB