Package: scPCA Version: 1.14.0 Command: /home/biocbuild/bbs-3.17-bioc/R/bin/R CMD check --install=check:scPCA.install-out.txt --library=/home/biocbuild/bbs-3.17-bioc/R/site-library --timings scPCA_1.14.0.tar.gz StartedAt: 2023-10-16 00:54:23 -0400 (Mon, 16 Oct 2023) EndedAt: 2023-10-16 01:01:25 -0400 (Mon, 16 Oct 2023) EllapsedTime: 421.5 seconds RetCode: 0 Status: OK CheckDir: scPCA.Rcheck Warnings: 0