Package: scater Version: 1.28.0 Command: /home/biocbuild/bbs-3.17-bioc/R/bin/R CMD build --keep-empty-dirs --no-resave-data scater StartedAt: 2023-10-15 18:21:56 -0400 (Sun, 15 Oct 2023) EndedAt: 2023-10-15 18:24:49 -0400 (Sun, 15 Oct 2023) EllapsedTime: 173.5 seconds RetCode: 0 Status: OK PackageFile: scater_1.28.0.tar.gz PackageFileSize: 3.934 MiB