Package: scater Version: 1.28.0 Command: /home/biocbuild/bbs-3.17-bioc/R/bin/R CMD INSTALL scater StartedAt: 2023-10-15 15:41:42 -0400 (Sun, 15 Oct 2023) EndedAt: 2023-10-15 15:42:10 -0400 (Sun, 15 Oct 2023) EllapsedTime: 27.8 seconds RetCode: 0 Status: OK