Package: scater Version: 1.28.0 Command: F:\biocbuild\bbs-3.17-bioc\R\bin\R.exe CMD check --no-multiarch --install=check:scater.install-out.txt --library=F:\biocbuild\bbs-3.17-bioc\R\library --no-vignettes --timings scater_1.28.0.tar.gz StartedAt: 2023-10-16 06:25:32 -0400 (Mon, 16 Oct 2023) EndedAt: 2023-10-16 06:35:02 -0400 (Mon, 16 Oct 2023) EllapsedTime: 570.6 seconds RetCode: 0 Status: OK CheckDir: scater.Rcheck Warnings: 0