Package: scatterHatch Version: 1.6.0 Command: rm -rf scatterHatch.buildbin-libdir && mkdir scatterHatch.buildbin-libdir && /Users/biocbuild/BBS/utils/build-universal.sh scatterHatch_1.6.0.tar.gz /Library/Frameworks/R.framework/Resources/bin/R scatterHatch.buildbin-libdir StartedAt: 2023-10-16 10:09:01 -0400 (Mon, 16 Oct 2023) EndedAt: 2023-10-16 10:09:25 -0400 (Mon, 16 Oct 2023) EllapsedTime: 24.0 seconds RetCode: 0 Status: OK PackageFile: scatterHatch_1.6.0.tgz PackageFileSize: 3.075 MiB