Package: scatterHatch Version: 1.6.0 Command: /Library/Frameworks/R.framework/Resources/bin/R CMD build --keep-empty-dirs --no-resave-data scatterHatch StartedAt: 2023-10-15 20:58:17 -0400 (Sun, 15 Oct 2023) EndedAt: 2023-10-15 20:59:40 -0400 (Sun, 15 Oct 2023) EllapsedTime: 82.8 seconds RetCode: 0 Status: OK PackageFile: scatterHatch_1.6.0.tar.gz PackageFileSize: 3.036 MiB