Package: segmentSeq Version: 2.34.0 Command: chmod a+r segmentSeq -R && F:\biocbuild\bbs-3.17-bioc\R\bin\R.exe CMD build --keep-empty-dirs --no-resave-data segmentSeq StartedAt: 2023-10-15 22:16:24 -0400 (Sun, 15 Oct 2023) EndedAt: 2023-10-15 22:24:48 -0400 (Sun, 15 Oct 2023) EllapsedTime: 504.0 seconds RetCode: 0 Status: OK PackageFile: segmentSeq_2.34.0.tar.gz PackageFileSize: 2.798 MiB