Package: segmentSeq Version: 2.34.0 Command: F:\biocbuild\bbs-3.17-bioc\R\bin\R.exe CMD check --no-multiarch --install=check:segmentSeq.install-out.txt --library=F:\biocbuild\bbs-3.17-bioc\R\library --no-vignettes --timings segmentSeq_2.34.0.tar.gz StartedAt: 2023-10-16 06:42:45 -0400 (Mon, 16 Oct 2023) EndedAt: 2023-10-16 06:48:13 -0400 (Mon, 16 Oct 2023) EllapsedTime: 327.9 seconds RetCode: 0 Status: OK CheckDir: segmentSeq.Rcheck Warnings: 0