Package: segmentSeq Version: 2.34.0 Command: F:\biocbuild\bbs-3.17-bioc\R\bin\R.exe CMD INSTALL segmentSeq StartedAt: 2023-10-15 16:16:56 -0400 (Sun, 15 Oct 2023) EndedAt: 2023-10-15 16:17:44 -0400 (Sun, 15 Oct 2023) EllapsedTime: 47.2 seconds RetCode: 0 Status: OK