Package: segmenter Version: 1.6.0 Command: /home/biocbuild/bbs-3.17-bioc/R/bin/R CMD check --install=check:segmenter.install-out.txt --library=/home/biocbuild/bbs-3.17-bioc/R/site-library --timings segmenter_1.6.0.tar.gz StartedAt: 2023-10-14 01:02:28 -0400 (Sat, 14 Oct 2023) EndedAt: 2023-10-14 01:16:49 -0400 (Sat, 14 Oct 2023) EllapsedTime: 860.5 seconds RetCode: 0 Status: OK CheckDir: segmenter.Rcheck Warnings: 0