Package: segmenter Version: 1.6.0 Command: chmod a+r segmenter -R && F:\biocbuild\bbs-3.17-bioc\R\bin\R.exe CMD build --keep-empty-dirs --no-resave-data segmenter StartedAt: 2023-10-15 22:16:18 -0400 (Sun, 15 Oct 2023) EndedAt: 2023-10-15 22:23:45 -0400 (Sun, 15 Oct 2023) EllapsedTime: 446.7 seconds RetCode: 0 Status: OK PackageFile: segmenter_1.6.0.tar.gz PackageFileSize: 3.888 MiB