Package: semisup Version: 1.24.0 Command: rm -rf semisup.buildbin-libdir && mkdir semisup.buildbin-libdir && /Users/biocbuild/BBS/utils/build-universal.sh semisup_1.24.0.tar.gz /Library/Frameworks/R.framework/Resources/bin/R semisup.buildbin-libdir StartedAt: 2023-10-16 10:12:03 -0400 (Mon, 16 Oct 2023) EndedAt: 2023-10-16 10:12:12 -0400 (Mon, 16 Oct 2023) EllapsedTime: 8.6 seconds RetCode: 0 Status: OK PackageFile: semisup_1.24.0.tgz PackageFileSize: 374.8 KiB