Package: seqPattern Version: 1.32.0 Command: rm -rf seqPattern.buildbin-libdir && mkdir seqPattern.buildbin-libdir && /Users/biocbuild/BBS/utils/build-universal.sh seqPattern_1.32.0.tar.gz /Library/Frameworks/R.framework/Resources/bin/R seqPattern.buildbin-libdir StartedAt: 2023-10-16 10:12:51 -0400 (Mon, 16 Oct 2023) EndedAt: 2023-10-16 10:13:36 -0400 (Mon, 16 Oct 2023) EllapsedTime: 44.9 seconds RetCode: 0 Status: OK PackageFile: seqPattern_1.32.0.tgz PackageFileSize: 3.52 MiB