Package: seqPattern Version: 1.32.0 Command: /home/biocbuild/bbs-3.17-bioc/R/bin/R CMD build --keep-empty-dirs --no-resave-data seqPattern StartedAt: 2023-10-15 18:31:01 -0400 (Sun, 15 Oct 2023) EndedAt: 2023-10-15 18:31:32 -0400 (Sun, 15 Oct 2023) EllapsedTime: 31.2 seconds RetCode: 0 Status: OK PackageFile: seqPattern_1.32.0.tar.gz PackageFileSize: 5.368 MiB