Package: siggenes Version: 1.74.0 Command: /home/biocbuild/bbs-3.17-bioc/R/bin/R CMD build --keep-empty-dirs --no-resave-data siggenes StartedAt: 2023-10-15 18:32:28 -0400 (Sun, 15 Oct 2023) EndedAt: 2023-10-15 18:32:56 -0400 (Sun, 15 Oct 2023) EllapsedTime: 27.3 seconds RetCode: 0 Status: OK PackageFile: siggenes_1.74.0.tar.gz PackageFileSize: 513.5 KiB