Package: siggenes Version: 1.74.0 Command: /home/biocbuild/bbs-3.17-bioc/R/bin/R CMD INSTALL siggenes StartedAt: 2023-10-15 15:38:04 -0400 (Sun, 15 Oct 2023) EndedAt: 2023-10-15 15:38:16 -0400 (Sun, 15 Oct 2023) EllapsedTime: 12.2 seconds RetCode: 0 Status: OK