Package: signifinder Version: 1.2.1 Command: /Library/Frameworks/R.framework/Resources/bin/R CMD build --keep-empty-dirs --no-resave-data signifinder StartedAt: 2023-10-15 21:21:10 -0400 (Sun, 15 Oct 2023) EndedAt: 2023-10-15 21:28:55 -0400 (Sun, 15 Oct 2023) EllapsedTime: 465.0 seconds RetCode: 0 Status: OK PackageFile: signifinder_1.2.1.tar.gz PackageFileSize: 7.76 MiB