Package: signifinder Version: 1.2.1 Command: /Library/Frameworks/R.framework/Resources/bin/R CMD INSTALL signifinder StartedAt: 2023-10-15 16:29:43 -0400 (Sun, 15 Oct 2023) EndedAt: 2023-10-15 16:32:28 -0400 (Sun, 15 Oct 2023) EllapsedTime: 164.8 seconds RetCode: 0 Status: OK