Package: signifinder Version: 1.2.1 Command: rm -rf signifinder.buildbin-libdir && mkdir signifinder.buildbin-libdir && F:\biocbuild\bbs-3.17-bioc\R\bin\R.exe CMD INSTALL --build --library=signifinder.buildbin-libdir signifinder_1.2.1.tar.gz StartedAt: 2023-10-16 09:32:37 -0400 (Mon, 16 Oct 2023) EndedAt: 2023-10-16 09:33:49 -0400 (Mon, 16 Oct 2023) EllapsedTime: 72.0 seconds RetCode: 0 Status: OK PackageFile: signifinder_1.2.1.zip PackageFileSize: 4.248 MiB