Package: signifinder Version: 1.2.1 Command: chmod a+r signifinder -R && F:\biocbuild\bbs-3.17-bioc\R\bin\R.exe CMD build --keep-empty-dirs --no-resave-data signifinder StartedAt: 2023-10-15 22:23:54 -0400 (Sun, 15 Oct 2023) EndedAt: 2023-10-15 22:26:39 -0400 (Sun, 15 Oct 2023) EllapsedTime: 165.5 seconds RetCode: 0 Status: OK PackageFile: signifinder_1.2.1.tar.gz PackageFileSize: 6.494 MiB