Package: single Version: 1.4.0 Command: /Library/Frameworks/R.framework/Resources/bin/R CMD build --keep-empty-dirs --no-resave-data single StartedAt: 2023-10-15 21:23:21 -0400 (Sun, 15 Oct 2023) EndedAt: 2023-10-15 21:28:25 -0400 (Sun, 15 Oct 2023) EllapsedTime: 303.5 seconds RetCode: 0 Status: OK PackageFile: single_1.4.0.tar.gz PackageFileSize: 1.391 MiB