Package: single Version: 1.4.0 Command: /Library/Frameworks/R.framework/Resources/bin/R CMD INSTALL single StartedAt: 2023-10-15 15:25:49 -0400 (Sun, 15 Oct 2023) EndedAt: 2023-10-15 15:27:15 -0400 (Sun, 15 Oct 2023) EllapsedTime: 85.9 seconds RetCode: 0 Status: OK