Package: single Version: 1.4.0 Command: rm -rf single.buildbin-libdir && mkdir single.buildbin-libdir && F:\biocbuild\bbs-3.17-bioc\R\bin\R.exe CMD INSTALL --build --library=single.buildbin-libdir single_1.4.0.tar.gz StartedAt: 2023-10-16 09:33:09 -0400 (Mon, 16 Oct 2023) EndedAt: 2023-10-16 09:33:40 -0400 (Mon, 16 Oct 2023) EllapsedTime: 31.7 seconds RetCode: 0 Status: OK PackageFile: single_1.4.0.zip PackageFileSize: 1.409 MiB