Package: sitePath Version: 1.16.0 Command: rm -rf sitePath.buildbin-libdir && mkdir sitePath.buildbin-libdir && F:\biocbuild\bbs-3.17-bioc\R\bin\R.exe CMD INSTALL --build --library=sitePath.buildbin-libdir sitePath_1.16.0.tar.gz StartedAt: 2023-10-16 09:33:42 -0400 (Mon, 16 Oct 2023) EndedAt: 2023-10-16 09:34:45 -0400 (Mon, 16 Oct 2023) EllapsedTime: 63.1 seconds RetCode: 0 Status: OK PackageFile: sitePath_1.16.0.zip PackageFileSize: 1.298 MiB