Package: sitePath Version: 1.16.0 Command: F:\biocbuild\bbs-3.17-bioc\R\bin\R.exe CMD INSTALL sitePath StartedAt: 2023-10-15 16:15:02 -0400 (Sun, 15 Oct 2023) EndedAt: 2023-10-15 16:16:09 -0400 (Sun, 15 Oct 2023) EllapsedTime: 67.0 seconds RetCode: 0 Status: OK