Package: spatialDE Version: 1.6.0 Command: rm -rf spatialDE.buildbin-libdir && mkdir spatialDE.buildbin-libdir && F:\biocbuild\bbs-3.17-bioc\R\bin\R.exe CMD INSTALL --build --library=spatialDE.buildbin-libdir spatialDE_1.6.0.tar.gz StartedAt: 2023-10-16 09:35:01 -0400 (Mon, 16 Oct 2023) EndedAt: 2023-10-16 09:35:35 -0400 (Mon, 16 Oct 2023) EllapsedTime: 34.4 seconds RetCode: 0 Status: OK PackageFile: spatialDE_1.6.0.zip PackageFileSize: 2.168 MiB