Package: spatialHeatmap Version: 2.6.2 Command: /Library/Frameworks/R.framework/Resources/bin/R CMD build --keep-empty-dirs --no-resave-data spatialHeatmap StartedAt: 2023-10-15 21:33:33 -0400 (Sun, 15 Oct 2023) EndedAt: 2023-10-15 21:45:34 -0400 (Sun, 15 Oct 2023) EllapsedTime: 721.2 seconds RetCode: 0 Status: OK PackageFile: spatialHeatmap_2.6.2.tar.gz PackageFileSize: 30.41 MiB