Package: spatialHeatmap Version: 2.6.2 Command: /Library/Frameworks/R.framework/Resources/bin/R CMD check --install=check:spatialHeatmap.install-out.txt --library=/Library/Frameworks/R.framework/Resources/library --no-vignettes --timings spatialHeatmap_2.6.2.tar.gz StartedAt: 2023-10-16 07:25:45 -0400 (Mon, 16 Oct 2023) EndedAt: 2023-10-16 07:41:40 -0400 (Mon, 16 Oct 2023) EllapsedTime: 954.6 seconds RetCode: 0 Status: OK CheckDir: spatialHeatmap.Rcheck Warnings: 0