Package: spatialHeatmap Version: 2.6.2 Command: /home/biocbuild/bbs-3.17-bioc/R/bin/R CMD build --keep-empty-dirs --no-resave-data spatialHeatmap StartedAt: 2023-10-15 18:37:36 -0400 (Sun, 15 Oct 2023) EndedAt: 2023-10-15 18:42:36 -0400 (Sun, 15 Oct 2023) EllapsedTime: 299.8 seconds RetCode: 0 Status: OK PackageFile: spatialHeatmap_2.6.2.tar.gz PackageFileSize: 30.12 MiB