Package: speckle Version: 1.0.0 Command: /Library/Frameworks/R.framework/Resources/bin/R CMD check --install=check:speckle.install-out.txt --library=/Library/Frameworks/R.framework/Resources/library --no-vignettes --timings speckle_1.0.0.tar.gz StartedAt: 2023-10-16 07:26:56 -0400 (Mon, 16 Oct 2023) EndedAt: 2023-10-16 07:36:04 -0400 (Mon, 16 Oct 2023) EllapsedTime: 548.3 seconds RetCode: 0 Status: OK CheckDir: speckle.Rcheck Warnings: 0