Package: speckle Version: 1.0.0 Command: /home/biocbuild/bbs-3.17-bioc/R/bin/R CMD build --keep-empty-dirs --no-resave-data speckle StartedAt: 2023-10-15 18:37:41 -0400 (Sun, 15 Oct 2023) EndedAt: 2023-10-15 18:38:57 -0400 (Sun, 15 Oct 2023) EllapsedTime: 76.0 seconds RetCode: 0 Status: OK PackageFile: speckle_1.0.0.tar.gz PackageFileSize: 1.274 MiB