Package: speckle Version: 1.0.0 Command: /home/biocbuild/bbs-3.17-bioc/R/bin/R CMD INSTALL speckle StartedAt: 2023-10-15 15:35:46 -0400 (Sun, 15 Oct 2023) EndedAt: 2023-10-15 15:36:18 -0400 (Sun, 15 Oct 2023) EllapsedTime: 31.9 seconds RetCode: 0 Status: OK