Package: speckle Version: 1.0.0 Command: rm -rf speckle.buildbin-libdir && mkdir speckle.buildbin-libdir && F:\biocbuild\bbs-3.17-bioc\R\bin\R.exe CMD INSTALL --build --library=speckle.buildbin-libdir speckle_1.0.0.tar.gz StartedAt: 2023-10-16 09:35:26 -0400 (Mon, 16 Oct 2023) EndedAt: 2023-10-16 09:36:04 -0400 (Mon, 16 Oct 2023) EllapsedTime: 37.9 seconds RetCode: 0 Status: OK PackageFile: speckle_1.0.0.zip PackageFileSize: 582 KiB