git_url: https://git.bioconductor.org/packages/spkTools git_branch: RELEASE_3_17 git_last_commit: d4b9604 git_last_commit_date: 2023-04-25 09:48:13 -0400 (Tue, 25 Apr 2023) Package: spkTools Version: 1.56.0 Maintainer: Matthew N McCall MaintainerEmail: mccallm at gmail.com