Package: splineTimeR Version: 1.28.0 Command: chmod a+r splineTimeR -R && F:\biocbuild\bbs-3.17-bioc\R\bin\R.exe CMD build --keep-empty-dirs --no-resave-data splineTimeR StartedAt: 2023-10-15 22:36:59 -0400 (Sun, 15 Oct 2023) EndedAt: 2023-10-15 22:37:52 -0400 (Sun, 15 Oct 2023) EllapsedTime: 53.2 seconds RetCode: 0 Status: OK PackageFile: splineTimeR_1.28.0.tar.gz PackageFileSize: 1.1 MiB