Package: sscu Version: 2.30.0 Command: /home/biocbuild/bbs-3.17-bioc/R/bin/R CMD check --install=check:sscu.install-out.txt --library=/home/biocbuild/bbs-3.17-bioc/R/site-library --timings sscu_2.30.0.tar.gz StartedAt: 2023-10-16 01:28:18 -0400 (Mon, 16 Oct 2023) EndedAt: 2023-10-16 01:29:45 -0400 (Mon, 16 Oct 2023) EllapsedTime: 87.6 seconds RetCode: 0 Status: WARNINGS CheckDir: sscu.Rcheck Warnings: 1