Package: sscu Version: 2.30.0 Command: /home/biocbuild/bbs-3.17-bioc/R/bin/R CMD INSTALL sscu StartedAt: 2023-10-15 15:12:57 -0400 (Sun, 15 Oct 2023) EndedAt: 2023-10-15 15:13:09 -0400 (Sun, 15 Oct 2023) EllapsedTime: 12.0 seconds RetCode: 0 Status: OK